BEGIN:VCALENDAR
VERSION:2.0
PRODID:-//eventon.com NONSGML v1.0//EN
CALSCALE:GREGORIAN
METHOD:PUBLISH
BEGIN:VEVENT
UID:69e4cdf1b3809
DTSTAMP:20260419T124329Z
DTSTART:20250604T190000Z
DTEND:20250620T080000Z
LOCATION:
SUMMARY:Curso anual
DESCRIPTION:\nhttps://www.montecelo.org/events/curso-anual-28/
URL:https://www.montecelo.org/events/curso-anual-28/
END:VEVENT
END:VCALENDAR