BEGIN:VCALENDAR
VERSION:2.0
PRODID:-//eventon.com NONSGML v1.0//EN
CALSCALE:GREGORIAN
METHOD:PUBLISH
BEGIN:VEVENT
UID:69e805ac73dd3
DTSTAMP:20260421T231804Z
DTSTART:20240822T183000Z
DTEND:20240828T081500Z
LOCATION:
SUMMARY:Convivencia
DESCRIPTION:\nhttps://www.montecelo.org/events/convivencia-54/
URL:https://www.montecelo.org/events/convivencia-54/
END:VEVENT
END:VCALENDAR