BEGIN:VCALENDAR
VERSION:2.0
PRODID:-//eventon.com NONSGML v1.0//EN
CALSCALE:GREGORIAN
METHOD:PUBLISH
BEGIN:VEVENT
UID:69ecea23bdd75
DTSTAMP:20260425T162155Z
DTSTART:20231027T180000Z
DTEND:20231102T090000Z
LOCATION:
SUMMARY:Curso de retiro
DESCRIPTION:\nhttps://www.montecelo.org/events/curso-de-retiro-79/
URL:https://www.montecelo.org/events/curso-de-retiro-79/
END:VEVENT
END:VCALENDAR