BEGIN:VCALENDAR
VERSION:2.0
PRODID:-//eventon.com NONSGML v1.0//EN
CALSCALE:GREGORIAN
METHOD:PUBLISH
BEGIN:VEVENT
UID:69e9ebbd974e2
DTSTAMP:20260423T095157Z
DTSTART:20230526T143000Z
DTEND:20230528T160000Z
LOCATION:
SUMMARY:Curso de retiro
DESCRIPTION:\nhttps://www.montecelo.org/events/curso-de-retiro-76/
URL:https://www.montecelo.org/events/curso-de-retiro-76/
END:VEVENT
END:VCALENDAR