BEGIN:VCALENDAR
VERSION:2.0
PRODID:-//eventon.com NONSGML v1.0//EN
CALSCALE:GREGORIAN
METHOD:PUBLISH
BEGIN:VEVENT
UID:69eb1153ef41d
DTSTAMP:20260424T064435Z
DTSTART:20220628T190000Z
DTEND:20220709T080000Z
LOCATION:
SUMMARY:Convivencia
DESCRIPTION:Convivencia\nhttps://www.montecelo.org/events/convivencia-30/
URL:https://www.montecelo.org/events/convivencia-30/
END:VEVENT
END:VCALENDAR