BEGIN:VCALENDAR
VERSION:2.0
PRODID:-//eventon.com NONSGML v1.0//EN
CALSCALE:GREGORIAN
METHOD:PUBLISH
BEGIN:VEVENT
UID:69e504d81a6dd
DTSTAMP:20260419T163744Z
DTSTART:20220622T190000Z
DTEND:20220628T080000Z
LOCATION:
SUMMARY:Convivencia
DESCRIPTION:Convivencia\nhttps://www.montecelo.org/events/convivencia-29/
URL:https://www.montecelo.org/events/convivencia-29/
END:VEVENT
END:VCALENDAR