BEGIN:VCALENDAR
VERSION:2.0
PRODID:-//eventon.com NONSGML v1.0//EN
CALSCALE:GREGORIAN
METHOD:PUBLISH
BEGIN:VEVENT
UID:69e9eac3f15a7
DTSTAMP:20260423T094747Z
DTSTART:20220427T113000Z
DTEND:20220427T143000Z
LOCATION:
SUMMARY:Jornada sacerdotes
DESCRIPTION:Jornada sacerdotes\nhttps://www.montecelo.org/events/jornada-sa
 cerdotes/
URL:https://www.montecelo.org/events/jornada-sacerdotes/
END:VEVENT
END:VCALENDAR