BEGIN:VCALENDAR
VERSION:2.0
PRODID:-//eventon.com NONSGML v1.0//EN
CALSCALE:GREGORIAN
METHOD:PUBLISH
BEGIN:VEVENT
UID:69ea6747ec501
DTSTAMP:20260423T183903Z
DTSTART:20220314T110000Z
DTEND:20220319T090000Z
LOCATION:
SUMMARY:Curso de retiro
DESCRIPTION:Curso de retiro\nhttps://www.montecelo.org/events/curso-de-reti
 ro-52/
URL:https://www.montecelo.org/events/curso-de-retiro-52/
END:VEVENT
END:VCALENDAR