BEGIN:VCALENDAR
VERSION:2.0
PRODID:-//eventon.com NONSGML v1.0//EN
CALSCALE:GREGORIAN
METHOD:PUBLISH
BEGIN:VEVENT
UID:69e5682a27a00
DTSTAMP:20260419T234130Z
DTSTART:20220101T200000Z
DTEND:20220106T090000Z
LOCATION:
SUMMARY:Curso de retiro
DESCRIPTION:Curso de retiro\nhttps://www.montecelo.org/events/curso-de-reti
 ro-41/
URL:https://www.montecelo.org/events/curso-de-retiro-41/
END:VEVENT
END:VCALENDAR