BEGIN:VCALENDAR
VERSION:2.0
PRODID:-//eventon.com NONSGML v1.0//EN
CALSCALE:GREGORIAN
METHOD:PUBLISH
BEGIN:VEVENT
UID:69e9f46de6552
DTSTAMP:20260423T102901Z
DTSTART:20211014T120000Z
DTEND:20211016T163000Z
LOCATION:
SUMMARY:Convivencia
DESCRIPTION:Convivencia\nhttps://www.montecelo.org/events/convivencia-24/
URL:https://www.montecelo.org/events/convivencia-24/
END:VEVENT
END:VCALENDAR