BEGIN:VCALENDAR
VERSION:2.0
PRODID:-//eventon.com NONSGML v1.0//EN
CALSCALE:GREGORIAN
METHOD:PUBLISH
BEGIN:VEVENT
UID:69eaf34fd2c78
DTSTAMP:20260424T043631Z
DTSTART:20210910T190000Z
DTEND:20210916T080000Z
LOCATION:
SUMMARY:Convivencia
DESCRIPTION:Convivencia\nhttps://www.montecelo.org/events/convivencia-20/
URL:https://www.montecelo.org/events/convivencia-20/
END:VEVENT
END:VCALENDAR