BEGIN:VCALENDAR
VERSION:2.0
PRODID:-//eventon.com NONSGML v1.0//EN
CALSCALE:GREGORIAN
METHOD:PUBLISH
BEGIN:VEVENT
UID:69ed960f9094d
DTSTAMP:20260426T043527Z
DTSTART:20210629T190000Z
DTEND:20210710T080000Z
LOCATION:
SUMMARY:Convivencia
DESCRIPTION:Convivencia\nhttps://www.montecelo.org/events/convivencia-16/
URL:https://www.montecelo.org/events/convivencia-16/
END:VEVENT
END:VCALENDAR