BEGIN:VCALENDAR
VERSION:2.0
PRODID:-//eventon.com NONSGML v1.0//EN
CALSCALE:GREGORIAN
METHOD:PUBLISH
BEGIN:VEVENT
UID:69e9ff04def42
DTSTAMP:20260423T111412Z
DTSTART:20210529T190000Z
DTEND:20210604T080000Z
LOCATION:
SUMMARY:Curso de retiro
DESCRIPTION:Curso de retiro\nhttps://www.montecelo.org/events/curso-de-reti
 ro-35/
URL:https://www.montecelo.org/events/curso-de-retiro-35/
END:VEVENT
END:VCALENDAR