BEGIN:VCALENDAR
VERSION:2.0
PRODID:-//eventon.com NONSGML v1.0//EN
CALSCALE:GREGORIAN
METHOD:PUBLISH
BEGIN:VEVENT
UID:69e54fcb97bd3
DTSTAMP:20260419T215731Z
DTSTART:20210223T100000Z
DTEND:20210224T170000Z
LOCATION:
SUMMARY:Jornadas para sacerdotes
DESCRIPTION:Jornadas para sacerdotes\nhttps://www.montecelo.org/events/jorn
 adas-para-sacerdotes/
URL:https://www.montecelo.org/events/jornadas-para-sacerdotes/
END:VEVENT
END:VCALENDAR