BEGIN:VCALENDAR
VERSION:2.0
PRODID:-//eventon.com NONSGML v1.0//EN
CALSCALE:GREGORIAN
METHOD:PUBLISH
BEGIN:VEVENT
UID:69e621cb12a3a
DTSTAMP:20260420T125331Z
DTSTART:20210101T200000Z
DTEND:20210106T090000Z
LOCATION:
SUMMARY:Curso de retiro
DESCRIPTION:Curso de retiro\nhttps://www.montecelo.org/events/curso-de-reti
 ro-15/
URL:https://www.montecelo.org/events/curso-de-retiro-15/
END:VEVENT
END:VCALENDAR