BEGIN:VCALENDAR
VERSION:2.0
PRODID:-//eventon.com NONSGML v1.0//EN
CALSCALE:GREGORIAN
METHOD:PUBLISH
BEGIN:VEVENT
UID:69e568afe4dd5
DTSTAMP:20260419T234343Z
DTSTART:20201119T203000Z
DTEND:20201122T173000Z
LOCATION:
SUMMARY:Curso de retiro
DESCRIPTION:Curso de retiro\nhttps://www.montecelo.org/events/curso-de-reti
 ro-20/
URL:https://www.montecelo.org/events/curso-de-retiro-20/
END:VEVENT
END:VCALENDAR