BEGIN:VCALENDAR
VERSION:2.0
PRODID:-//eventon.com NONSGML v1.0//EN
CALSCALE:GREGORIAN
METHOD:PUBLISH
BEGIN:VEVENT
UID:69e997d210345
DTSTAMP:20260423T035354Z
DTSTART:20200928T190000Z
DTEND:20201014T080000Z
LOCATION:
SUMMARY:Curso anual
DESCRIPTION:Curso anual\nhttps://www.montecelo.org/events/curso-anual-4/
URL:https://www.montecelo.org/events/curso-anual-4/
END:VEVENT
END:VCALENDAR