BEGIN:VCALENDAR
VERSION:2.0
PRODID:-//eventon.com NONSGML v1.0//EN
CALSCALE:GREGORIAN
METHOD:PUBLISH
BEGIN:VEVENT
UID:69eb0d0b1b2f2
DTSTAMP:20260424T062619Z
DTSTART:20200906T190000Z
DTEND:20200912T080000Z
LOCATION:
SUMMARY:Convivencia
DESCRIPTION:Convivencia\nhttps://www.montecelo.org/events/convivencia-8/
URL:https://www.montecelo.org/events/convivencia-8/
END:VEVENT
END:VCALENDAR