BEGIN:VCALENDAR
VERSION:2.0
PRODID:-//eventon.com NONSGML v1.0//EN
CALSCALE:GREGORIAN
METHOD:PUBLISH
BEGIN:VEVENT
UID:69e4d17ebb5b8
DTSTAMP:20260419T125838Z
DTSTART:20200424T150000Z
DTEND:20200426T163000Z
LOCATION:
SUMMARY:Convivencia
DESCRIPTION:Convivencia\nhttps://www.montecelo.org/events/convivencia-2a-pa
 rte/
URL:https://www.montecelo.org/events/convivencia-2a-parte/
END:VEVENT
END:VCALENDAR