BEGIN:VCALENDAR
VERSION:2.0
PRODID:-//eventon.com NONSGML v1.0//EN
CALSCALE:GREGORIAN
METHOD:PUBLISH
BEGIN:VEVENT
UID:69e8e5f304e16
DTSTAMP:20260422T151459Z
DTSTART:20200227T200000Z
DTEND:20200301T173000Z
LOCATION:
SUMMARY:Curso de retiro
DESCRIPTION:Curso de retiro\nhttps://www.montecelo.org/events/curso-de-reti
 ro-9/
URL:https://www.montecelo.org/events/curso-de-retiro-9/
END:VEVENT
END:VCALENDAR